BEGIN:VCALENDAR
VERSION:2.0
PRODID:-//MŠ Knovíz - ECPv5.16.4//NONSGML v1.0//EN
CALSCALE:GREGORIAN
METHOD:PUBLISH
X-WR-CALNAME:MŠ Knovíz
X-ORIGINAL-URL:https://msknoviz.cz
X-WR-CALDESC:Akce na MŠ Knovíz
BEGIN:VTIMEZONE
TZID:Europe/Prague
BEGIN:DAYLIGHT
TZOFFSETFROM:+0100
TZOFFSETTO:+0200
TZNAME:CEST
DTSTART:20260329T010000
END:DAYLIGHT
BEGIN:STANDARD
TZOFFSETFROM:+0200
TZOFFSETTO:+0100
TZNAME:CET
DTSTART:20261025T010000
END:STANDARD
END:VTIMEZONE
BEGIN:VEVENT
DTSTART;TZID=Europe/Prague:20260619T080000
DTEND;TZID=Europe/Prague:20260619T130000
DTSTAMP:20260425T220002
CREATED:20251010T100839Z
LAST-MODIFIED:20251010T100839Z
UID:5413-1781856000-1781874000@msknoviz.cz
SUMMARY:Rozloučení s předškoláky
DESCRIPTION:Dne 19.6.2026 proběhne v mateřské škole rozloučení s předškoláky. Součástí dopoledne bude zábavný program kouzelníka Cucína. Začátek programu je v 9:30 hodin\, konec programu ve 13:00 hodin\, cena vstupného je 250\,-Kč.
URL:https://msknoviz.cz/kalendar/rozlouceni-s-predskolaky-2/
CATEGORIES:kalendář a hlavní stránka
END:VEVENT
END:VCALENDAR