BEGIN:VCALENDAR
VERSION:2.0
PRODID:-//MŠ Knovíz - ECPv5.16.4//NONSGML v1.0//EN
CALSCALE:GREGORIAN
METHOD:PUBLISH
X-WR-CALNAME:MŠ Knovíz
X-ORIGINAL-URL:https://msknoviz.cz
X-WR-CALDESC:Akce na MŠ Knovíz
BEGIN:VTIMEZONE
TZID:Europe/Prague
BEGIN:DAYLIGHT
TZOFFSETFROM:+0100
TZOFFSETTO:+0200
TZNAME:CEST
DTSTART:20260329T010000
END:DAYLIGHT
BEGIN:STANDARD
TZOFFSETFROM:+0200
TZOFFSETTO:+0100
TZNAME:CET
DTSTART:20261025T010000
END:STANDARD
END:VTIMEZONE
BEGIN:VEVENT
DTSTART;TZID=Europe/Prague:20260611T080000
DTEND;TZID=Europe/Prague:20260611T113000
DTSTAMP:20260425T185635
CREATED:20251010T100633Z
LAST-MODIFIED:20251010T100633Z
UID:5409-1781164800-1781177400@msknoviz.cz
SUMMARY:Malý archeolog
DESCRIPTION:Dne 11.6.2026 přijede do mateřské školy společnost Malá technická univerzita s projektovým dnem „Malý archeolog“. Začátek programu bude v 8:00 hodin\, vstupné je hrazeno z projektu Šablony II. – OP JAK v rámci podpory polytechnického vzdělávání.
URL:https://msknoviz.cz/kalendar/maly-archeolog/
CATEGORIES:kalendář a hlavní stránka
END:VEVENT
END:VCALENDAR