BEGIN:VCALENDAR
VERSION:2.0
PRODID:-//MŠ Knovíz - ECPv5.16.4//NONSGML v1.0//EN
CALSCALE:GREGORIAN
METHOD:PUBLISH
X-WR-CALNAME:MŠ Knovíz
X-ORIGINAL-URL:https://msknoviz.cz
X-WR-CALDESC:Akce na MŠ Knovíz
BEGIN:VTIMEZONE
TZID:Europe/Prague
BEGIN:DAYLIGHT
TZOFFSETFROM:+0100
TZOFFSETTO:+0200
TZNAME:CEST
DTSTART:20260329T010000
END:DAYLIGHT
BEGIN:STANDARD
TZOFFSETFROM:+0200
TZOFFSETTO:+0100
TZNAME:CET
DTSTART:20261025T010000
END:STANDARD
END:VTIMEZONE
BEGIN:VEVENT
DTSTART;TZID=Europe/Prague:20260601T080000
DTEND;TZID=Europe/Prague:20260601T130000
DTSTAMP:20260425T173105
CREATED:20251010T100545Z
LAST-MODIFIED:20251010T100856Z
UID:5407-1780300800-1780318800@msknoviz.cz
SUMMARY:Den Dětí
DESCRIPTION:Dne 1.6.2026 proběhne v mateřské škole Den Dětí. Dopoledne plné her a zábavy spojené s grilováním na zahradě mateřské školy. Konec programu bude ve 13:00 hodin.
URL:https://msknoviz.cz/kalendar/den-deti-2/
CATEGORIES:kalendář a hlavní stránka
END:VEVENT
END:VCALENDAR